BEGIN:VCALENDAR
VERSION:2.0
CALSCALE:GREGORIAN
PRODID:-//Diputació de Barcelona//DibaCMS//EN
BEGIN:VEVENT
UID:3965
DTSTAMP:20260423T190029
DTSTART:20260524T140000
DTEND:20260524T170000
SUMMARY:Dinar de germanor en homenatge a la gent gran i ball. Setmana de la Gent Gran
LOCATION:Av. Catalunya, 1 08787  La Pobla de Claramunt
METHOD:PUBLISH
X-WR-CALNAME:claramunt@lapobladeclaramunt.cat
X-WR-TIMEZONE:Europe/Madrid
DESCRIPTION:
URI:https://www.lapobladeclaramunt.cat/actualitat/agenda/dinar-de-germanor-en-homenatge-a-la-gent-gran-i-ball-setmana-de-la-gent-gran.html
CLASS:PUBLIC
END:VEVENT
END:VCALENDAR
