BEGIN:VCALENDAR
VERSION:2.0
CALSCALE:GREGORIAN
PRODID:-//Diputació de Barcelona//DibaCMS//EN
BEGIN:VEVENT
UID:3956
DTSTAMP:20260422T235720
DTSTART:20260613T000000
DTEND:20260613T000000
SUMMARY:Festa de cloenda temporada CF La Pobla 
LOCATION:Camp de futbol FC La Pobla 
METHOD:PUBLISH
X-WR-CALNAME:claramunt@lapobladeclaramunt.cat
X-WR-TIMEZONE:Europe/Madrid
DESCRIPTION:
URI:https://www.lapobladeclaramunt.cat/actualitat/agenda/festa-de-cloenda-temporada-cf-la-pobla-.html
CLASS:PUBLIC
END:VEVENT
END:VCALENDAR
