BEGIN:VCALENDAR
VERSION:2.0
CALSCALE:GREGORIAN
PRODID:-//Diputació de Barcelona//DibaCMS//EN
BEGIN:VEVENT
UID:3949
DTSTAMP:20260423T011516
DTSTART:20260613T000000
DTEND:20260621T000000
SUMMARY:Setmana de la Joventut
LOCATION:
METHOD:PUBLISH
X-WR-CALNAME:claramunt@lapobladeclaramunt.cat
X-WR-TIMEZONE:Europe/Madrid
DESCRIPTION:
URI:https://www.lapobladeclaramunt.cat/actualitat/agenda/3949-setmana-de-la-joventut.html
CLASS:PUBLIC
END:VEVENT
END:VCALENDAR
