BEGIN:VCALENDAR
VERSION:2.0
CALSCALE:GREGORIAN
PRODID:-//Diputació de Barcelona//DibaCMS//EN
BEGIN:VEVENT
UID:3948
DTSTAMP:20260423T011338
DTSTART:20260606T210000
DTEND:20260606T230000
SUMMARY:Anoia Folk 
LOCATION:Castell 
METHOD:PUBLISH
X-WR-CALNAME:claramunt@lapobladeclaramunt.cat
X-WR-TIMEZONE:Europe/Madrid
DESCRIPTION:
URI:https://www.lapobladeclaramunt.cat/actualitat/agenda/anoia-folk-.html
CLASS:PUBLIC
END:VEVENT
END:VCALENDAR
