BEGIN:VCALENDAR
VERSION:2.0
CALSCALE:GREGORIAN
PRODID:-//Diputació de Barcelona//DibaCMS//EN
BEGIN:VEVENT
UID:3946
DTSTAMP:20260422T224223
DTSTART:20260516T090000
DTEND:20260516T140000
SUMMARY:Campanya sensibilització vies blaves
LOCATION:Via Blava 
METHOD:PUBLISH
X-WR-CALNAME:claramunt@lapobladeclaramunt.cat
X-WR-TIMEZONE:Europe/Madrid
DESCRIPTION:
URI:https://www.lapobladeclaramunt.cat/actualitat/agenda/campanya-sensibilitzacio-vies-blaves.html
CLASS:PUBLIC
END:VEVENT
END:VCALENDAR
