BEGIN:VCALENDAR
VERSION:2.0
CALSCALE:GREGORIAN
PRODID:-//Diputació de Barcelona//DibaCMS//EN
BEGIN:VEVENT
UID:3939
DTSTAMP:20260423T115631
DTSTART:20260429T180000
DTEND:20260429T210000
SUMMARY:Trobada amb l'autora Gemma Ruiz 
LOCATION:Av. Catalunya, 9  08787 La Pobla de Claramunt
METHOD:PUBLISH
X-WR-CALNAME:claramunt@lapobladeclaramunt.cat
X-WR-TIMEZONE:Europe/Madrid
DESCRIPTION:Activitat organitzada pel Club de lectura i oberta a tota la ciutadania. 

URI:https://www.lapobladeclaramunt.cat/actualitat/agenda/trobada-amb-lautora-gemma-ruiz-.html
CLASS:PUBLIC
END:VEVENT
END:VCALENDAR
