BEGIN:VCALENDAR
VERSION:2.0
CALSCALE:GREGORIAN
PRODID:-//Diputació de Barcelona//DibaCMS//EN
BEGIN:VEVENT
UID:3929
DTSTAMP:20260423T000501
DTSTART:20260611T190000
DTEND:20260611T200000
SUMMARY:Xerrada 'De pilot a copilot: el Dakar des de dins' - Cicle Km0
LOCATION:Av. Catalunya, 9-11 08787 La Pobla de Claramunt
METHOD:PUBLISH
X-WR-CALNAME:claramunt@lapobladeclaramunt.cat
X-WR-TIMEZONE:Europe/Madrid
DESCRIPTION:A càrrec del pilot poblatà Armand Monleón

URI:https://www.lapobladeclaramunt.cat/actualitat/agenda/xerrada-de-pilot-a-copilot-el-dakar-des-de-dins-cicle-km0.html
CLASS:PUBLIC
END:VEVENT
END:VCALENDAR
