BEGIN:VCALENDAR
VERSION:2.0
CALSCALE:GREGORIAN
PRODID:-//Diputació de Barcelona//DibaCMS//EN
BEGIN:VEVENT
UID:3911
DTSTAMP:20260423T125904
DTSTART:20260310T173000
DTEND:20260310T173000
SUMMARY:Taller de Debat i Reflexió: Dones d'Ahir, Dones d'Avui
LOCATION:CASAL GENT GRAN 
METHOD:PUBLISH
X-WR-CALNAME:claramunt@lapobladeclaramunt.cat
X-WR-TIMEZONE:Europe/Madrid
DESCRIPTION:
URI:https://www.lapobladeclaramunt.cat/actualitat/agenda/taller-de-debat-i-reflexio-dones-dahir-dones-davui.html
CLASS:PUBLIC
END:VEVENT
END:VCALENDAR
