BEGIN:VCALENDAR
VERSION:2.0
CALSCALE:GREGORIAN
PRODID:-//Diputació de Barcelona//DibaCMS//EN
BEGIN:VEVENT
UID:3909
DTSTAMP:20260423T021919
DTSTART:20260308T131500
DTEND:20260308T131500
SUMMARY:Lectura del Manifest del Dia de la Dona
LOCATION:PL. AJUNTAMENT 
METHOD:PUBLISH
X-WR-CALNAME:claramunt@lapobladeclaramunt.cat
X-WR-TIMEZONE:Europe/Madrid
DESCRIPTION:
URI:https://www.lapobladeclaramunt.cat/actualitat/agenda/lectura-del-manifest-del-dia-de-la-dona.html
CLASS:PUBLIC
END:VEVENT
END:VCALENDAR
