BEGIN:VCALENDAR
VERSION:2.0
CALSCALE:GREGORIAN
PRODID:-//Diputació de Barcelona//DibaCMS//EN
BEGIN:VEVENT
UID:3906
DTSTAMP:20260422T234949
DTSTART:20260301T110000
DTEND:20260301T130000
SUMMARY:Transconca
LOCATION:Sortida des de la Zona Esportiva de la Pobla de Claramunt 
METHOD:PUBLISH
X-WR-CALNAME:claramunt@lapobladeclaramunt.cat
X-WR-TIMEZONE:Europe/Madrid
DESCRIPTION:Marxa i pedalada populars i solidàries amb les malalties minoritàries

URI:https://www.lapobladeclaramunt.cat/actualitat/agenda/3906-transconca.html
CLASS:PUBLIC
END:VEVENT
END:VCALENDAR
