BEGIN:VCALENDAR
VERSION:2.0
CALSCALE:GREGORIAN
PRODID:-//Diputació de Barcelona//DibaCMS//EN
BEGIN:VEVENT
UID:3903
DTSTAMP:20260423T022808
DTSTART:20260214T173000
DTEND:20260214T180000
SUMMARY:Rua de Carnestoltes 
LOCATION:Sortida: parc de Sant Galderic  
METHOD:PUBLISH
X-WR-CALNAME:claramunt@lapobladeclaramunt.cat
X-WR-TIMEZONE:Europe/Madrid
DESCRIPTION:Recorregut: parc de Sant Galderic, plaça de la Mare de déu de la Llet, c. Major, c. Tres Fonts, plaça de la Vila, c. Solell i Ateneu

URI:https://www.lapobladeclaramunt.cat/actualitat/agenda/rua-de-carnestoltes-.html
CLASS:PUBLIC
END:VEVENT
END:VCALENDAR
