BEGIN:VCALENDAR
VERSION:2.0
CALSCALE:GREGORIAN
PRODID:-//Diputació de Barcelona//DibaCMS//EN
BEGIN:VEVENT
UID:3902
DTSTAMP:20260423T034652
DTSTART:20260211T180000
DTEND:20260211T180000
SUMMARY:Xerrada 'Hàbits posturals' - Escola de Salut
LOCATION:Av. Catalunya, 16 (edifici de l’Ajuntament)  08787 La Pobla de Claramunt
METHOD:PUBLISH
X-WR-CALNAME:claramunt@lapobladeclaramunt.cat
X-WR-TIMEZONE:Europe/Madrid
DESCRIPTION:A càrrec del fisioterapeuta Marc Pubill

URI:https://www.lapobladeclaramunt.cat/actualitat/agenda/xerrada-habits-posturals-escola-de-salut.html
CLASS:PUBLIC
END:VEVENT
END:VCALENDAR
