BEGIN:VCALENDAR
VERSION:2.0
CALSCALE:GREGORIAN
PRODID:-//Diputació de Barcelona//DibaCMS//EN
BEGIN:VEVENT
UID:3900
DTSTAMP:20260423T063504
DTSTART:20260131T190000
DTEND:20260131T190000
SUMMARY:Concert Coral La Lira
LOCATION:Av. Catalunya, 9-11 08787 La Pobla de Claramunt
METHOD:PUBLISH
X-WR-CALNAME:claramunt@lapobladeclaramunt.cat
X-WR-TIMEZONE:Europe/Madrid
DESCRIPTION:
URI:https://www.lapobladeclaramunt.cat/actualitat/agenda/concert-coral-la-lira.html
CLASS:PUBLIC
END:VEVENT
END:VCALENDAR
