BEGIN:VCALENDAR
VERSION:2.0
CALSCALE:GREGORIAN
PRODID:-//Diputació de Barcelona//DibaCMS//EN
BEGIN:VEVENT
UID:3899
DTSTAMP:20260423T034636
DTSTART:20260131T120000
DTEND:20260131T120000
SUMMARY:Visita Guiada Memorial Democràtic
LOCATION:PL. AJUNTAMENT 
METHOD:PUBLISH
X-WR-CALNAME:claramunt@lapobladeclaramunt.cat
X-WR-TIMEZONE:Europe/Madrid
DESCRIPTION:
URI:https://www.lapobladeclaramunt.cat/actualitat/agenda/visita-guiada-memorial-democratic.html
CLASS:PUBLIC
END:VEVENT
END:VCALENDAR
