BEGIN:VCALENDAR
VERSION:2.0
CALSCALE:GREGORIAN
PRODID:-//Diputació de Barcelona//DibaCMS//EN
BEGIN:VEVENT
UID:3898
DTSTAMP:20260423T053335
DTSTART:20260130T180000
DTEND:20260130T180000
SUMMARY:Inauguració Expo Pintors Pobla
LOCATION:Av. Catalunya, 16 (edifici de l’Ajuntament)  08787 La Pobla de Claramunt
METHOD:PUBLISH
X-WR-CALNAME:claramunt@lapobladeclaramunt.cat
X-WR-TIMEZONE:Europe/Madrid
DESCRIPTION:
URI:https://www.lapobladeclaramunt.cat/actualitat/agenda/inauguracio-expo-pintors-pobla.html
CLASS:PUBLIC
END:VEVENT
END:VCALENDAR
