BEGIN:VCALENDAR
VERSION:2.0
CALSCALE:GREGORIAN
PRODID:-//Diputació de Barcelona//DibaCMS//EN
BEGIN:VEVENT
UID:3897
DTSTAMP:20260422T235839
DTSTART:20260128T180000
DTEND:20260128T180000
SUMMARY:L'Hora del Conte
LOCATION:Av. Catalunya, 9  08787 La Pobla de Claramunt
METHOD:PUBLISH
X-WR-CALNAME:claramunt@lapobladeclaramunt.cat
X-WR-TIMEZONE:Europe/Madrid
DESCRIPTION:
URI:https://www.lapobladeclaramunt.cat/actualitat/agenda/lhora-del-conte.html
CLASS:PUBLIC
END:VEVENT
END:VCALENDAR
