BEGIN:VCALENDAR
VERSION:2.0
CALSCALE:GREGORIAN
PRODID:-//Diputació de Barcelona//DibaCMS//EN
BEGIN:VEVENT
UID:3895
DTSTAMP:20260423T034056
DTSTART:20260121T210000
DTEND:20260121T210000
SUMMARY:PLE
LOCATION:Ajuntament 
METHOD:PUBLISH
X-WR-CALNAME:claramunt@lapobladeclaramunt.cat
X-WR-TIMEZONE:Europe/Madrid
DESCRIPTION:
URI:https://www.lapobladeclaramunt.cat/actualitat/agenda/ple.html
CLASS:PUBLIC
END:VEVENT
END:VCALENDAR
