BEGIN:VCALENDAR
VERSION:2.0
CALSCALE:GREGORIAN
PRODID:-//Diputació de Barcelona//DibaCMS//EN
BEGIN:VEVENT
UID:3893
DTSTAMP:20260423T034351
DTSTART:20260114T180000
DTEND:20260114T180000
SUMMARY:ESCOLA DE SALUT
LOCATION:TEATRE JARDÍ 
METHOD:PUBLISH
X-WR-CALNAME:claramunt@lapobladeclaramunt.cat
X-WR-TIMEZONE:Europe/Madrid
DESCRIPTION:
URI:https://www.lapobladeclaramunt.cat/actualitat/agenda/3893-escola-de-salut.html
CLASS:PUBLIC
END:VEVENT
END:VCALENDAR
