BEGIN:VCALENDAR
VERSION:2.0
CALSCALE:GREGORIAN
PRODID:-//Diputació de Barcelona//DibaCMS//EN
BEGIN:VEVENT
UID:3830
DTSTAMP:20260423T104330
DTSTART:20251120T000000
DTEND:20251122T000000
SUMMARY:50 ANYS DE LA RECUPERACIÓ DELS DRETS I LES LLIBERTATS
LOCATION:
METHOD:PUBLISH
X-WR-CALNAME:claramunt@lapobladeclaramunt.cat
X-WR-TIMEZONE:Europe/Madrid
DESCRIPTION:
URI:https://www.lapobladeclaramunt.cat/actualitat/agenda/50-anys-de-la-recuperacio-dels-drets-i-les-llibertats.html
CLASS:PUBLIC
END:VEVENT
END:VCALENDAR
