BEGIN:VCALENDAR
VERSION:2.0
CALSCALE:GREGORIAN
PRODID:-//Diputació de Barcelona//DibaCMS//EN
BEGIN:VEVENT
UID:3827
DTSTAMP:20260423T120358
DTSTART:20251008T000000
DTEND:20251105T000000
SUMMARY:Escola de salut
LOCATION:
METHOD:PUBLISH
X-WR-CALNAME:claramunt@lapobladeclaramunt.cat
X-WR-TIMEZONE:Europe/Madrid
DESCRIPTION:
URI:https://www.lapobladeclaramunt.cat/actualitat/agenda/escola-de-salut.html
CLASS:PUBLIC
END:VEVENT
END:VCALENDAR
