BEGIN:VCALENDAR
VERSION:2.0
CALSCALE:GREGORIAN
PRODID:-//Diputació de Barcelona//DibaCMS//EN
BEGIN:VEVENT
UID:3734
DTSTAMP:20260423T115940
DTSTART:20250213T190000
DTEND:20250213T190000
SUMMARY:Cicle de conferències Km0 - Passat i present de la discapacitat intel·lectual
LOCATION:
METHOD:PUBLISH
X-WR-CALNAME:claramunt@lapobladeclaramunt.cat
X-WR-TIMEZONE:Europe/Madrid
DESCRIPTION:
URI:https://www.lapobladeclaramunt.cat/actualitat/agenda/cicle-de-conferencies-km0-passat-i-present-de-la-discapacitat-intellectual.html
CLASS:PUBLIC
END:VEVENT
END:VCALENDAR
