BEGIN:VCALENDAR
VERSION:2.0
CALSCALE:GREGORIAN
PRODID:-//Diputació de Barcelona//DibaCMS//EN
BEGIN:VEVENT
UID:3709
DTSTAMP:20260423T130110
DTSTART:20250105T183000
DTEND:20250105T183000
SUMMARY:Calvacada de Reis
LOCATION:
METHOD:PUBLISH
X-WR-CALNAME:claramunt@lapobladeclaramunt.cat
X-WR-TIMEZONE:Europe/Madrid
DESCRIPTION:
URI:https://www.lapobladeclaramunt.cat/actualitat/agenda/calvacada-de-reis.html
CLASS:PUBLIC
END:VEVENT
END:VCALENDAR
