BEGIN:VCALENDAR
VERSION:2.0
CALSCALE:GREGORIAN
PRODID:-//Diputació de Barcelona//DibaCMS//EN
BEGIN:VEVENT
UID:3707
DTSTAMP:20260423T115715
DTSTART:20241229T113000
DTEND:20241229T113000
SUMMARY:Visita del patge faruk i espectacle infantil
LOCATION:
METHOD:PUBLISH
X-WR-CALNAME:claramunt@lapobladeclaramunt.cat
X-WR-TIMEZONE:Europe/Madrid
DESCRIPTION:
URI:https://www.lapobladeclaramunt.cat/actualitat/agenda/visita-del-patge-faruk-i-espectacle-infantil.html
CLASS:PUBLIC
END:VEVENT
END:VCALENDAR
