BEGIN:VCALENDAR
VERSION:2.0
CALSCALE:GREGORIAN
PRODID:-//Diputació de Barcelona//DibaCMS//EN
BEGIN:VEVENT
UID:3706
DTSTAMP:20260423T075047
DTSTART:20241228T183000
DTEND:20241228T183000
SUMMARY:Concert de Nadal amb la Coral la Lira
LOCATION:
METHOD:PUBLISH
X-WR-CALNAME:claramunt@lapobladeclaramunt.cat
X-WR-TIMEZONE:Europe/Madrid
DESCRIPTION:
URI:https://www.lapobladeclaramunt.cat/actualitat/agenda/concert-de-nadal-amb-la-coral-la-lira.html
CLASS:PUBLIC
END:VEVENT
END:VCALENDAR
