BEGIN:VCALENDAR
VERSION:2.0
CALSCALE:GREGORIAN
PRODID:-//Diputació de Barcelona//DibaCMS//EN
BEGIN:VEVENT
UID:3703
DTSTAMP:20260423T113746
DTSTART:20241225T120000
DTEND:20241225T120000
SUMMARY:53a Copa de Nadal de natació
LOCATION:
METHOD:PUBLISH
X-WR-CALNAME:claramunt@lapobladeclaramunt.cat
X-WR-TIMEZONE:Europe/Madrid
DESCRIPTION:
URI:https://www.lapobladeclaramunt.cat/actualitat/agenda/53a-copa-de-nadal-de-natacio.html
CLASS:PUBLIC
END:VEVENT
END:VCALENDAR
