BEGIN:VCALENDAR
VERSION:2.0
CALSCALE:GREGORIAN
PRODID:-//Diputació de Barcelona//DibaCMS//EN
BEGIN:VEVENT
UID:3701
DTSTAMP:20260423T082004
DTSTART:20241215T180000
DTEND:20241215T180000
SUMMARY:20è Bingo solidari a favor de la Marató
LOCATION:
METHOD:PUBLISH
X-WR-CALNAME:claramunt@lapobladeclaramunt.cat
X-WR-TIMEZONE:Europe/Madrid
DESCRIPTION:
URI:https://www.lapobladeclaramunt.cat/actualitat/agenda/20e-bingo-solidari-a-favor-de-la-marato.html
CLASS:PUBLIC
END:VEVENT
END:VCALENDAR
