BEGIN:VCALENDAR
VERSION:2.0
CALSCALE:GREGORIAN
PRODID:-//Diputació de Barcelona//DibaCMS//EN
BEGIN:VEVENT
UID:3700
DTSTAMP:20260423T082113
DTSTART:20241213T190000
DTEND:20241213T190000
SUMMARY:Inauguració de l’exposició de fotografia de Neus Aguilera
LOCATION:
METHOD:PUBLISH
X-WR-CALNAME:claramunt@lapobladeclaramunt.cat
X-WR-TIMEZONE:Europe/Madrid
DESCRIPTION:
URI:https://www.lapobladeclaramunt.cat/actualitat/agenda/inauguracio-de-lexposicio-de-fotografia-de-neus-aguilera.html
CLASS:PUBLIC
END:VEVENT
END:VCALENDAR
