BEGIN:VCALENDAR
VERSION:2.0
CALSCALE:GREGORIAN
PRODID:-//Diputació de Barcelona//DibaCMS//EN
BEGIN:VEVENT
UID:3686
DTSTAMP:20260423T053304
DTSTART:20241020T103000
DTEND:20241020T230000
SUMMARY:40è Concurs Pintura Ràpida Infantil
LOCATION:
METHOD:PUBLISH
X-WR-CALNAME:claramunt@lapobladeclaramunt.cat
X-WR-TIMEZONE:Europe/Madrid
DESCRIPTION:
URI:https://www.lapobladeclaramunt.cat/actualitat/agenda/40e-concurs-pintura-rapida-infantil.html
CLASS:PUBLIC
END:VEVENT
END:VCALENDAR
