BEGIN:VCALENDAR
VERSION:2.0
CALSCALE:GREGORIAN
PRODID:-//Diputació de Barcelona//DibaCMS//EN
BEGIN:VEVENT
UID:3655
DTSTAMP:20260423T064950
DTSTART:20240702T000000
DTEND:20240727T000000
SUMMARY:Activitats estiu 2024 Cau Jove
LOCATION:
METHOD:PUBLISH
X-WR-CALNAME:claramunt@lapobladeclaramunt.cat
X-WR-TIMEZONE:Europe/Madrid
DESCRIPTION:
URI:https://www.lapobladeclaramunt.cat/actualitat/agenda/activitats-estiu-2024-cau-jove.html
CLASS:PUBLIC
END:VEVENT
END:VCALENDAR
