BEGIN:VCALENDAR
VERSION:2.0
CALSCALE:GREGORIAN
PRODID:-//Diputació de Barcelona//DibaCMS//EN
BEGIN:VEVENT
UID:3620
DTSTAMP:20260423T065101
DTSTART:20240430T180000
DTEND:20240430T200000
SUMMARY:Trobada amb l'escriptora Sílvia Soler
LOCATION:Av. Catalunya, 9  08787 La Pobla de Claramunt
METHOD:PUBLISH
X-WR-CALNAME:claramunt@lapobladeclaramunt.cat
X-WR-TIMEZONE:Europe/Madrid
DESCRIPTION:Trobada amb l'escriptora Sílvia Soler.
La presentació anirà a càrrec de Montserrat Farrés, moderadora del Club de
lectura 

URI:https://www.lapobladeclaramunt.cat/actualitat/agenda/3620-trobada-amb-lescriptora-silvia-soler.html
CLASS:PUBLIC
END:VEVENT
END:VCALENDAR
