BEGIN:VCALENDAR
VERSION:2.0
CALSCALE:GREGORIAN
PRODID:-//Diputació de Barcelona//DibaCMS//EN
BEGIN:VEVENT
UID:3619
DTSTAMP:20260423T163614
DTSTART:20240423T090000
DTEND:20240423T200000
SUMMARY:Diada de Sant Jordi 2024
LOCATION:
METHOD:PUBLISH
X-WR-CALNAME:claramunt@lapobladeclaramunt.cat
X-WR-TIMEZONE:Europe/Madrid
DESCRIPTION:La Pobla de Claramunt celebra Sant Jordi amb venda de llibres  i roses a la plaça de l'Ajuntament i a les 19h és previst l'actuació del grup "Guingueta"

La diada és organitzada per l'associació Barrufet Roig i l'Ajuntament de la Pobla de Claramunt

URI:https://www.lapobladeclaramunt.cat/actualitat/agenda/diada-de-sant-jordi-2024.html
CLASS:PUBLIC
END:VEVENT
END:VCALENDAR
