BEGIN:VCALENDAR
VERSION:2.0
CALSCALE:GREGORIAN
PRODID:-//Diputació de Barcelona//DibaCMS//EN
BEGIN:VEVENT
UID:3608
DTSTAMP:20260423T075652
DTSTART:20240609T100000
DTEND:20240609T130000
SUMMARY:Trobada de Puntaires
LOCATION:Casc antic 
METHOD:PUBLISH
X-WR-CALNAME:claramunt@lapobladeclaramunt.cat
X-WR-TIMEZONE:Europe/Madrid
DESCRIPTION:
URI:https://www.lapobladeclaramunt.cat/actualitat/agenda/3608-trobada-de-puntaires.html
CLASS:PUBLIC
END:VEVENT
END:VCALENDAR
