BEGIN:VCALENDAR
VERSION:2.0
CALSCALE:GREGORIAN
PRODID:-//Diputació de Barcelona//DibaCMS//EN
BEGIN:VEVENT
UID:3607
DTSTAMP:20260423T092723
DTSTART:20240608T210000
DTEND:20240608T220000
SUMMARY:Festival de música tradicional Anoia Folk
LOCATION:Castell de Claramunt 
METHOD:PUBLISH
X-WR-CALNAME:claramunt@lapobladeclaramunt.cat
X-WR-TIMEZONE:Europe/Madrid
DESCRIPTION:Amb els grups:


	Lia Sampai
	Quimi Portet
	Bum titis


URI:https://www.lapobladeclaramunt.cat/actualitat/agenda/festival-de-musica-tradicional-anoia-folk.html
CLASS:PUBLIC
END:VEVENT
END:VCALENDAR
