BEGIN:VCALENDAR
VERSION:2.0
CALSCALE:GREGORIAN
PRODID:-//Diputació de Barcelona//DibaCMS//EN
BEGIN:VEVENT
UID:3601
DTSTAMP:20260423T091957
DTSTART:20240508T180000
DTEND:20240519T200000
SUMMARY:Exposició de l’Agrupació Fotogràfica de la Pobla
LOCATION:Av. Catalunya, 16 (edifici de l’Ajuntament)  08787 La Pobla de Claramunt
METHOD:PUBLISH
X-WR-CALNAME:claramunt@lapobladeclaramunt.cat
X-WR-TIMEZONE:Europe/Madrid
DESCRIPTION:Horari: de dimecres a divendres de les 18:00 a 20:00
Dissabte i festius: 11:00 a 13:30

URI:https://www.lapobladeclaramunt.cat/actualitat/agenda/exposicio-de-lagrupacio-fotografica-de-la-pobla.html
CLASS:PUBLIC
END:VEVENT
END:VCALENDAR
