BEGIN:VCALENDAR
VERSION:2.0
CALSCALE:GREGORIAN
PRODID:-//Diputació de Barcelona//DibaCMS//EN
BEGIN:VEVENT
UID:3574
DTSTAMP:20260422T160042
DTSTART:20240530T190000
DTEND:20240530T203000
SUMMARY:Programa arts escèniques 30 de maig
LOCATION:Av. Catalunya, 9-11 08787 La Pobla de Claramunt
METHOD:PUBLISH
X-WR-CALNAME:claramunt@lapobladeclaramunt.cat
X-WR-TIMEZONE:Europe/Madrid
DESCRIPTION:
URI:https://www.lapobladeclaramunt.cat/actualitat/agenda/programa-arts-esceniques-30-de-maig.html
CLASS:PUBLIC
END:VEVENT
END:VCALENDAR
