BEGIN:VCALENDAR
VERSION:2.0
CALSCALE:GREGORIAN
PRODID:-//Diputació de Barcelona//DibaCMS//EN
BEGIN:VEVENT
UID:3573
DTSTAMP:20260423T175515
DTSTART:20240428T183000
DTEND:20240428T203000
SUMMARY:Programa arts escèniques 28 d'abril
LOCATION:Av. Catalunya, 9-11 08787 La Pobla de Claramunt
METHOD:PUBLISH
X-WR-CALNAME:claramunt@lapobladeclaramunt.cat
X-WR-TIMEZONE:Europe/Madrid
DESCRIPTION:
URI:https://www.lapobladeclaramunt.cat/actualitat/agenda/programa-arts-esceniques-28-dabril.html
CLASS:PUBLIC
END:VEVENT
END:VCALENDAR
