BEGIN:VCALENDAR
VERSION:2.0
CALSCALE:GREGORIAN
PRODID:-//Diputació de Barcelona//DibaCMS//EN
BEGIN:VEVENT
UID:3540
DTSTAMP:20260423T091311
DTSTART:20231116T190000
DTEND:20231116T210000
SUMMARY:Cicle de conferències km.0 - I de la física, que en fem?
LOCATION:Av. Catalunya, 9-11 08787 La Pobla de Claramunt
METHOD:PUBLISH
X-WR-CALNAME:claramunt@lapobladeclaramunt.cat
X-WR-TIMEZONE:Europe/Madrid
DESCRIPTION:
URI:https://www.lapobladeclaramunt.cat/actualitat/agenda/cicle-de-conferencies-km0-i-de-la-fisica-que-en-fem.html
CLASS:PUBLIC
END:VEVENT
END:VCALENDAR
