BEGIN:VCALENDAR
VERSION:2.0
CALSCALE:GREGORIAN
PRODID:-//Diputació de Barcelona//DibaCMS//EN
BEGIN:VEVENT
UID:3508
DTSTAMP:20260423T081254
DTSTART:20230923T200000
DTEND:20230923T220000
SUMMARY:Arts escèniques setembre/desembre 2023 - Orquestrina Trama
LOCATION:Can Solá (En cas de pluja es traslladarà a l'Ateneu Gumersind Bisbal) 
METHOD:PUBLISH
X-WR-CALNAME:claramunt@lapobladeclaramunt.cat
X-WR-TIMEZONE:Europe/Madrid
DESCRIPTION:
URI:https://www.lapobladeclaramunt.cat/actualitat/agenda/arts-esceniques-setembredesembre-2023-orquestrina-trama.html
CLASS:PUBLIC
END:VEVENT
END:VCALENDAR
