BEGIN:VCALENDAR
VERSION:2.0
CALSCALE:GREGORIAN
PRODID:-//Diputació de Barcelona//DibaCMS//EN
BEGIN:VEVENT
UID:3507
DTSTAMP:20260423T081056
DTSTART:20230911T000000
DTEND:20230911T235900
SUMMARY:Diada Nacional de Catalunya 11 de setembre del 2023
LOCATION:
METHOD:PUBLISH
X-WR-CALNAME:claramunt@lapobladeclaramunt.cat
X-WR-TIMEZONE:Europe/Madrid
DESCRIPTION:
URI:https://www.lapobladeclaramunt.cat/actualitat/agenda/3507-diada-nacional-de-catalunya-11-de-setembre-del-2023.html
CLASS:PUBLIC
END:VEVENT
END:VCALENDAR
