BEGIN:VCALENDAR
VERSION:2.0
CALSCALE:GREGORIAN
PRODID:-//Diputació de Barcelona//DibaCMS//EN
BEGIN:VEVENT
UID:3484
DTSTAMP:20260423T081207
DTSTART:20230703T103000
DTEND:20230703T190000
SUMMARY:Festa Major 2023 - 3 de juliol
LOCATION:
METHOD:PUBLISH
X-WR-CALNAME:claramunt@lapobladeclaramunt.cat
X-WR-TIMEZONE:Europe/Madrid
DESCRIPTION:
URI:https://www.lapobladeclaramunt.cat/actualitat/agenda/festa-major-2023-3-de-juliol.html
CLASS:PUBLIC
END:VEVENT
END:VCALENDAR
