BEGIN:VCALENDAR
VERSION:2.0
CALSCALE:GREGORIAN
PRODID:-//Diputació de Barcelona//DibaCMS//EN
BEGIN:VEVENT
UID:3482
DTSTAMP:20260423T194612
DTSTART:20230701T110000
DTEND:20230701T235900
SUMMARY:Festa Major 2023 - 1 de juliol
LOCATION:
METHOD:PUBLISH
X-WR-CALNAME:claramunt@lapobladeclaramunt.cat
X-WR-TIMEZONE:Europe/Madrid
DESCRIPTION:
URI:https://www.lapobladeclaramunt.cat/actualitat/agenda/festa-major-2023-1-de-juliol.html
CLASS:PUBLIC
END:VEVENT
END:VCALENDAR
