BEGIN:VCALENDAR
VERSION:2.0
CALSCALE:GREGORIAN
PRODID:-//Diputació de Barcelona//DibaCMS//EN
BEGIN:VEVENT
UID:3456
DTSTAMP:20260423T093447
DTSTART:20230501T000000
DTEND:20230501T235900
SUMMARY:APLEC DEL CASTELL 2023
LOCATION:
METHOD:PUBLISH
X-WR-CALNAME:claramunt@lapobladeclaramunt.cat
X-WR-TIMEZONE:Europe/Madrid
DESCRIPTION:
URI:https://www.lapobladeclaramunt.cat/actualitat/agenda/aplec-del-castell-2023.html
CLASS:PUBLIC
END:VEVENT
END:VCALENDAR
