BEGIN:VCALENDAR
VERSION:2.0
CALSCALE:GREGORIAN
PRODID:-//Diputació de Barcelona//DibaCMS//EN
BEGIN:VEVENT
UID:3434
DTSTAMP:20260423T170344
DTSTART:20230218T170000
DTEND:20230218T210000
SUMMARY:CARNESTOLTES 2023
LOCATION:
METHOD:PUBLISH
X-WR-CALNAME:claramunt@lapobladeclaramunt.cat
X-WR-TIMEZONE:Europe/Madrid
DESCRIPTION:
URI:https://www.lapobladeclaramunt.cat/actualitat/agenda/carnestoltes-2023.html
CLASS:PUBLIC
END:VEVENT
END:VCALENDAR
