BEGIN:VCALENDAR
VERSION:2.0
CALSCALE:GREGORIAN
PRODID:-//Diputació de Barcelona//DibaCMS//EN
BEGIN:VEVENT
UID:3425
DTSTAMP:20260423T120741
DTSTART:20230205T090000
DTEND:20230205T200000
SUMMARY:Fira de la Candelera 2023
LOCATION:
METHOD:PUBLISH
X-WR-CALNAME:claramunt@lapobladeclaramunt.cat
X-WR-TIMEZONE:Europe/Madrid
DESCRIPTION:
URI:https://www.lapobladeclaramunt.cat/actualitat/agenda/fira-de-la-candelera-2023.html
CLASS:PUBLIC
END:VEVENT
END:VCALENDAR
