BEGIN:VCALENDAR
VERSION:2.0
CALSCALE:GREGORIAN
PRODID:-//Diputació de Barcelona//DibaCMS//EN
BEGIN:VEVENT
UID:3424
DTSTAMP:20260423T175715
DTSTART:20230201T173000
DTEND:20230212T133000
SUMMARY:Exposició d'artistes poblatans
LOCATION:Av. Catalunya, 16 (edifici de l’Ajuntament)  08787 La Pobla de Claramunt
METHOD:PUBLISH
X-WR-CALNAME:claramunt@lapobladeclaramunt.cat
X-WR-TIMEZONE:Europe/Madrid
DESCRIPTION:
URI:https://www.lapobladeclaramunt.cat/actualitat/agenda/exposicio-dartistes-poblatans.html
CLASS:PUBLIC
END:VEVENT
END:VCALENDAR
