BEGIN:VCALENDAR
VERSION:2.0
CALSCALE:GREGORIAN
PRODID:-//Diputació de Barcelona//DibaCMS//EN
BEGIN:VEVENT
UID:3423
DTSTAMP:20260423T133046
DTSTART:20230202T180000
DTEND:20230202T200000
SUMMARY:Espectacle infantil "Vegin i passin"
LOCATION:Av. Catalunya, 9-11 08787 La Pobla de Claramunt
METHOD:PUBLISH
X-WR-CALNAME:claramunt@lapobladeclaramunt.cat
X-WR-TIMEZONE:Europe/Madrid
DESCRIPTION:
URI:https://www.lapobladeclaramunt.cat/actualitat/agenda/espectacle-infantil-vegin-i-passin.html
CLASS:PUBLIC
END:VEVENT
END:VCALENDAR
