BEGIN:VCALENDAR
VERSION:2.0
CALSCALE:GREGORIAN
PRODID:-//Diputació de Barcelona//DibaCMS//EN
BEGIN:VEVENT
UID:3419
DTSTAMP:20260423T120016
DTSTART:20230610T220000
DTEND:20230610T233000
SUMMARY:Arts escèniques 10 Juny 2023
LOCATION:Plaça de Can Solà 
METHOD:PUBLISH
X-WR-CALNAME:claramunt@lapobladeclaramunt.cat
X-WR-TIMEZONE:Europe/Madrid
DESCRIPTION:
URI:https://www.lapobladeclaramunt.cat/actualitat/agenda/arts-esceniques-10-juny-2023.html
CLASS:PUBLIC
END:VEVENT
END:VCALENDAR
