BEGIN:VCALENDAR
VERSION:2.0
CALSCALE:GREGORIAN
PRODID:-//Diputació de Barcelona//DibaCMS//EN
BEGIN:VEVENT
UID:3373
DTSTAMP:20260423T093331
DTSTART:20221013T083000
DTEND:20221013T100000
SUMMARY:A LA POBLA ENS MOVEM! - Caminades per fer salut i poble
LOCATION:
METHOD:PUBLISH
X-WR-CALNAME:claramunt@lapobladeclaramunt.cat
X-WR-TIMEZONE:Europe/Madrid
DESCRIPTION:
URI:https://www.lapobladeclaramunt.cat/actualitat/agenda/3373-a-la-pobla-ens-movem-caminades-per-fer-salut-i-poble.html
CLASS:PUBLIC
END:VEVENT
END:VCALENDAR
