BEGIN:VCALENDAR
VERSION:2.0
CALSCALE:GREGORIAN
PRODID:-//Diputació de Barcelona//DibaCMS//EN
BEGIN:VEVENT
UID:3370
DTSTAMP:20260423T104206
DTSTART:20220922T083000
DTEND:20220922T100000
SUMMARY:A LA POBLA ENS MOVEM! - Caminades per fer salut i poble
LOCATION:
METHOD:PUBLISH
X-WR-CALNAME:claramunt@lapobladeclaramunt.cat
X-WR-TIMEZONE:Europe/Madrid
DESCRIPTION:
URI:https://www.lapobladeclaramunt.cat/actualitat/agenda/a-la-pobla-ens-movem-caminades-per-fer-salut-i-poble.html
CLASS:PUBLIC
END:VEVENT
END:VCALENDAR
