BEGIN:VCALENDAR
VERSION:2.0
CALSCALE:GREGORIAN
PRODID:-//Diputació de Barcelona//DibaCMS//EN
BEGIN:VEVENT
UID:3368
DTSTAMP:20260423T161824
DTSTART:20221113T120000
DTEND:20221113T140000
SUMMARY:CINEMA FAMILIAR - CANTA 2 
LOCATION:Av. Catalunya, 9-11 08787 La Pobla de Claramunt
METHOD:PUBLISH
X-WR-CALNAME:claramunt@lapobladeclaramunt.cat
X-WR-TIMEZONE:Europe/Madrid
DESCRIPTION:
URI:https://www.lapobladeclaramunt.cat/actualitat/agenda/cinema-familiar-canta-2-.html
CLASS:PUBLIC
END:VEVENT
END:VCALENDAR
